BEGIN:VCALENDAR
VERSION:2.0
PRODID:-//Crossroads - ECPv6.15.17//NONSGML v1.0//EN
CALSCALE:GREGORIAN
METHOD:PUBLISH
X-WR-CALNAME:Crossroads
X-ORIGINAL-URL:https://crossroadstrading.com
X-WR-CALDESC:Events for Crossroads
REFRESH-INTERVAL;VALUE=DURATION:PT1H
X-Robots-Tag:noindex
X-PUBLISHED-TTL:PT1H
BEGIN:VTIMEZONE
TZID:UTC
BEGIN:STANDARD
TZOFFSETFROM:+0000
TZOFFSETTO:+0000
TZNAME:UTC
DTSTART:20250101T000000
END:STANDARD
END:VTIMEZONE
BEGIN:VEVENT
DTSTART;TZID=UTC:20260502T110000
DTEND;TZID=UTC:20260502T200000
DTSTAMP:20260423T160517
CREATED:20260408T185755Z
LAST-MODIFIED:20260421T154057Z
UID:10000077-1777719600-1777752000@crossroadstrading.com
SUMMARY:Season Shift | ALL STORES
DESCRIPTION:Refresh your wardrobe for the season shift at Crossroads! 🌷-> ☀️ \nWe are celebrating the shift from spring to summer with a company-wide celebration! Visit your local Crossroads to: \n• Try your luck! 🍀 Every store is giving away $250 in Crossroads gift cards. The first 100 visitors have a chance to win. \n• Sell & Shop! 🛍️ Sell your warm weather fashion & shop curated racks. \n• Enjoy complimentary refreshments. 🍿 \nMay 2nd. All Crossroads locations. \nSee you there! 🥳
URL:https://crossroadstrading.com/event/seasonshift/
ATTACH;FMTTYPE=image/png:https://crossroadstrading.com/wp-content/uploads/2026/04/SeasonShift_EventArtwork_Social-1.png
END:VEVENT
END:VCALENDAR